BEGIN:VCALENDAR
VERSION:2.0
PRODID:-//X-HEEP Web Server - ECPv6.15.20//NONSGML v1.0//EN
CALSCALE:GREGORIAN
METHOD:PUBLISH
X-ORIGINAL-URL:https://x-heep.epfl.ch
X-WR-CALDESC:Events for X-HEEP Web Server
REFRESH-INTERVAL;VALUE=DURATION:PT1H
X-Robots-Tag:noindex
X-PUBLISHED-TTL:PT1H
BEGIN:VTIMEZONE
TZID:Europe/London
BEGIN:DAYLIGHT
TZOFFSETFROM:+0000
TZOFFSETTO:+0100
TZNAME:BST
DTSTART:20220327T010000
END:DAYLIGHT
BEGIN:STANDARD
TZOFFSETFROM:+0100
TZOFFSETTO:+0000
TZNAME:GMT
DTSTART:20221030T010000
END:STANDARD
BEGIN:DAYLIGHT
TZOFFSETFROM:+0000
TZOFFSETTO:+0100
TZNAME:BST
DTSTART:20230326T010000
END:DAYLIGHT
BEGIN:STANDARD
TZOFFSETFROM:+0100
TZOFFSETTO:+0000
TZNAME:GMT
DTSTART:20231029T010000
END:STANDARD
BEGIN:DAYLIGHT
TZOFFSETFROM:+0000
TZOFFSETTO:+0100
TZNAME:BST
DTSTART:20240331T010000
END:DAYLIGHT
BEGIN:STANDARD
TZOFFSETFROM:+0100
TZOFFSETTO:+0000
TZNAME:GMT
DTSTART:20241027T010000
END:STANDARD
BEGIN:DAYLIGHT
TZOFFSETFROM:+0000
TZOFFSETTO:+0100
TZNAME:BST
DTSTART:20250330T010000
END:DAYLIGHT
BEGIN:STANDARD
TZOFFSETFROM:+0100
TZOFFSETTO:+0000
TZNAME:GMT
DTSTART:20251026T010000
END:STANDARD
BEGIN:DAYLIGHT
TZOFFSETFROM:+0000
TZOFFSETTO:+0100
TZNAME:BST
DTSTART:20260329T010000
END:DAYLIGHT
BEGIN:STANDARD
TZOFFSETFROM:+0100
TZOFFSETTO:+0000
TZNAME:GMT
DTSTART:20261025T010000
END:STANDARD
BEGIN:DAYLIGHT
TZOFFSETFROM:+0000
TZOFFSETTO:+0100
TZNAME:BST
DTSTART:20270328T010000
END:DAYLIGHT
BEGIN:STANDARD
TZOFFSETFROM:+0100
TZOFFSETTO:+0000
TZNAME:GMT
DTSTART:20271031T010000
END:STANDARD
END:VTIMEZONE
BEGIN:VEVENT
DTSTART;VALUE=DATE:20260320
DTEND;VALUE=DATE:20260321
DTSTAMP:20260422T110332
CREATED:20260320T080609Z
LAST-MODIFIED:20260320T080609Z
UID:371-1773964800-1774051199@x-heep.epfl.ch
SUMMARY:HEEP-UP
DESCRIPTION:We dive into the world of open-source hardware and RISC-V at Politecnico di Torino. If you want to see how to build an SoC in a day using X-HEEP Platform you don’t want to miss this. \nIn collaboration with ESL – Embedded Systems Lab\, CEI-UPM Universidad Politécnica de Madrid\, the EDGE Group\, and supported by AMD and IEEE PoliTO Student Branch. \n \nJoin us: \nONLINE CONFERENCE
URL:https://x-heep.epfl.ch/event/heep-up/
LOCATION:PoliTO\, Torino\, Maxwell Conference Room\, DET – PoliTo\, Torino\, Italy
ATTACH;FMTTYPE=image/jpeg:https://x-heep.epfl.ch/wp-content/uploads/2026/03/polito.jpg
END:VEVENT
BEGIN:VEVENT
DTSTART;TZID=Europe/London:20250917T100000
DTEND;TZID=Europe/London:20250917T140000
DTSTAMP:20260422T110332
CREATED:20250825T141828Z
LAST-MODIFIED:20250825T142202Z
UID:319-1758103200-1758117600@x-heep.epfl.ch
SUMMARY:X-Agora 4 scheduled for September!
DESCRIPTION:This time\, to increase motivation\, we will have an invited talk by the SoC team of the Experimental Physics department\, Electronics Systems for Experiments group of CERN.  The team designs custom integrated circuits for high-energy physics experiments (mostly Large Hadron Collider detectors). During the talk they will present the SOCRATES platform: a toolset for the generation of radiation-tolerant SoCs. \n🗓️ When? \nSeptember 17th\, 2025 \n10 am – X-AGORA \n11 am – Talk by CERN – EP SoC team \n12 am – Apéro \n📍Where? \nELG 123\, EPFL\, Lausanne \nYou can join on Zoom \n👥 Who? \nAnyone who is interested. Feel free to forward this invitation (attached) \n📝 How? \nPlease register here (for organizational purposes only) \nIf you would like to present your work\, go ahead and add 1-slide on the shared presentation. \n🤔 Questions?  \nDo not doubt to drop an email juan.sapriza@epfl.ch
URL:https://x-heep.epfl.ch/event/x-agora-4/
LOCATION:EPFL\, INF328
ATTACH;FMTTYPE=image/jpeg:https://x-heep.epfl.ch/wp-content/uploads/2024/12/webPXL_20241216_105555678.MP_.jpg
END:VEVENT
BEGIN:VEVENT
DTSTART;TZID=Europe/London:20241216T110000
DTEND;TZID=Europe/London:20241216T120000
DTSTAMP:20260422T110332
CREATED:20241128T151007Z
LAST-MODIFIED:20241128T151551Z
UID:248-1734346800-1734350400@x-heep.epfl.ch
SUMMARY:X-AGORA III
DESCRIPTION:For details about presenting see this post \nSign Up \nJoin us on Zoom \nSlides from the last X-AGORA
URL:https://x-heep.epfl.ch/event/x-agora-iii/
LOCATION:EPFL\, INF328
ATTACH;FMTTYPE=image/png:https://x-heep.epfl.ch/wp-content/uploads/2024/11/agoraDec2024.png
END:VEVENT
BEGIN:VEVENT
DTSTART;TZID=Europe/London:20240415T150000
DTEND;TZID=Europe/London:20240415T170000
DTSTAMP:20260422T110332
CREATED:20240408T115824Z
LAST-MODIFIED:20240416T070914Z
UID:210-1713193200-1713200400@x-heep.epfl.ch
SUMMARY:X-AGORA #2
DESCRIPTION:The X-AGORA is a meeting space for all X-HEEP users\, developers and fans. We show short 1-minute/1-slide presentations from different works. \nAnyone can present by adding the slides of their presentation to juan.sapriza@epfl.ch. The event is not restricted to ESL or EPFL\, so feel free to share the link/invitation with anyone interested. Students are invited to present their ongoing projects as well! Consider this as a great opportunity to a) Learn about what others are doing\, and b) Show others what you are doing. This way we can avoid re-inventing the wheel and collaborate even more instead! \nJust to give it some order: \n\nDo not go far beyond the minute\nDo not modify other peoples’ slides\nAdd your contact info in the slidesThat’s it! As simple as extending X-HEEP 🙂\n\nFor those present\, there will be some snacks available\, for those connecting virtually\, there is a zoom link. \nPlease don’t leave your slides for the last minute so I can organize them by topic. If you have any question\, do not hesitate to contact me! \nVery best regards and hope to see you all there! \nJuan Sapriza and the X-HEEP team.
URL:https://x-heep.epfl.ch/event/x-agora-2/
LOCATION:Zoom\, ELG123\, EPFL\, Switzerland
ATTACH;FMTTYPE=image/jpeg:https://x-heep.epfl.ch/wp-content/uploads/2024/04/WhatsApp-Image-2024-04-15-at-15.13.27.jpeg
END:VEVENT
BEGIN:VEVENT
DTSTART;VALUE=DATE:20240325
DTEND;VALUE=DATE:20240326
DTSTAMP:20260422T110332
CREATED:20240119T131338Z
LAST-MODIFIED:20240119T131512Z
UID:119-1711324800-1711411199@x-heep.epfl.ch
SUMMARY:X-HEEP Workshop: Enabling rapid and sustainable RISC-V based research using open source HW and SW
DESCRIPTION:As our world becomes more interconnected and reliant on digital systems\, the need for transparency\, accessibility\, and collaborative innovation in hardware and software design has become paramount. Closed and proprietary solutions often limit user sovereignty and control\, hinder interoperability\, and stifle innovation by locking users into a specific ecosystem. In contrast\, open-source initiatives are leading towards rapid prototyping of novel ideas and systems and unlocking from any specific vendor by empowering academic and industrial users to control\, modify\, and build upon existing technology. This workshop will bring both academic and industry members into a discussion about open-source hardware (HW) and software (SW) interests and showcase the potential of open-source technology with the eXtendable Heterogeneous Energy-Efficient Platform\, X-HEEP. \nX-HEEP is an EU and RISC-V-based enabler platform for rapid and sustainable VLSI/ASIC system design\, automation\, and testing. Following the success stories of open-source projects in the SW ecosystem\, with Linux kernel as the best example\, X-HEEP aims to foster innovative\, easy-to-integrate\, easy-to-use ASIC-oriented technology. Similarly\, other open-source HW initiatives\, such as OpenHW Group\, OpenRoad\, and SkyWater are already revolutionising the semiconductor industry by democratising chip design via open-source IPs\, EDA tools\, and PDKs. To this end\, X-HEEP enables HW research and freely delivers industrial-grade\, silicon-proven open-source CPU IPs from OpenHW. Together with our academic and industrial partners\, we will showcase the usage of X-HEEP for \n\nSW engineers to deploy end-to-end applications\,\nHW engineers to integrate and evaluate their own IPs\, and\nsystem-level designers to architect a full system using its configurability and extendibility capabilities.\n\nOpen-source HW and SW are becoming essential in the rapidly evolving technological landscape. This workshop fosters a shared knowledge and creativity culture\, enabling a broader range of applications\, from affordable healthcare devices to sustainable energy solutions. It stands as a critical pillar for a more inclusive\, innovative\, and sustainable technological future. \nCall for Posters\nTo improve the discussion possibilities among junior and senior researchers\, in this workshop\, a Poster Competition is scheduled. We invite submissions on\, but not limited to\, the following topics: \n\nOpen-source SW applications (end-to-end) being deployed into open-source Systems (SoC\, NoC\, SiP\, etc)\nOpen-source HW Accelerators integrated into open-source Systems (SoC\, NoC\, SiP\, etc).\nOpen-source systems (SoC\, NoC\, SiP\, etc) offering extra versatility and configurability in comparison to COTS solutions.\n\nA submission can describe a novel scientific result\, provide a position statement about a new and relevant problem\, or report a case study on practical experiences with a topic from the list above. The submissions should not be formally published in the past. The workshop will have no formal proceedings. Accepted posters can\, at the discretion and with an approval of their authors\, be published on the workshop’s website. \nCALL FOR POSTERS\nAuthor instructions: \nSubmissions in form of 1-page PDF file in Pentachart format (possible template in here) should be submitted through SoftConf: \nSUBMISSIONS\nKey dates\n\n\n\nSubmission deadline:\nFebruary 5\, 2024\n\n\nAcceptance notification:\nFebruary 14\, 2024\n\n\nWorkshop:\nMarch 25-27\, 2024 (precise half-day slot to be decided later)\n\n\n\nRegistration\nThis workshop is co-located with the Design\, Automation and Test in Europe Conference and will use its registration facilities. Please register through the DATE website. The early-bird deadline is January 24\, 2024 \nREGISTRATION\n\nWorkshop organizers\nDavid Atienza\, ESL\, EPFL\, Switzerland\nDavide Schiavone\, ESL\, EPFL\, Switzerland\nJose Miranda\, ESL\, EPFL\, Switzerland\nAlfonso Rodríguez\, CEI\, UPM\, Spain\nAlessio Burrello\, Polytechnic of Turin\, Italy\nDaniele Jahier Pagliari\, Polytechnic of Turin\, Italy\nMaurizio Martina\, Polytechnic of Turin\, Italy \nWorkshop co-organizers and main contributors\nMr. Juan Sapriza\, ESL\, EPFL\, Switzerland\nMr. Ruben Rodriguez\, ESL\, EPFL\, Switzerland\nMr. Hossein Taji\, ESL\, EPFL\, Switzerland\nMr. Simone Machetti\, ESL\, EPFL\, Switzerland\nMr. Stefano Albini\, ESL\, EPFL\, Switzerland\nEmbecosm\, UK
URL:https://x-heep.epfl.ch/event/x-heep-workshop-enabling-rapid-and-sustainable-risc-v-based-research-using-open-source-hw-and-sw/
LOCATION:Palacio De Congresos\, Palacio De Congresos\, Valencia\, Spain
ATTACH;FMTTYPE=image/png:https://x-heep.epfl.ch/wp-content/uploads/2024/01/XHEEPdate2024.png
END:VEVENT
BEGIN:VEVENT
DTSTART;TZID=Europe/London:20231201T120000
DTEND;TZID=Europe/London:20231201T140000
DTSTAMP:20260422T110332
CREATED:20240119T114542Z
LAST-MODIFIED:20240416T071002Z
UID:100-1701432000-1701439200@x-heep.epfl.ch
SUMMARY:X-Agora – the X-HEEP Exchange Space
DESCRIPTION:We have a lot of people working on X-HEEP from different perspectives. It’s hard to keep track of what is done or can be done. It’s good to know about new changes that might affect our work. We can exchange ideas and make our work even better! \nGeneral Announcements\nWhy an Agora\nX-HEEP overview\nDynamic \nTeams Presentations\nFirmware\nHardware\nAccelerators\nApplications \nResolutions
URL:https://x-heep.epfl.ch/event/x-agora-the-x-heep-exchange-space/
LOCATION:EPFL\, INF328
ATTACH;FMTTYPE=image/jpeg:https://x-heep.epfl.ch/wp-content/uploads/2023/11/x-agora_cropped.jpg
END:VEVENT
END:VCALENDAR