BEGIN:VCALENDAR
VERSION:2.0
PRODID:-//X-HEEP Web Server - ECPv6.15.20//NONSGML v1.0//EN
CALSCALE:GREGORIAN
METHOD:PUBLISH
X-ORIGINAL-URL:https://x-heep.epfl.ch
X-WR-CALDESC:Events for X-HEEP Web Server
REFRESH-INTERVAL;VALUE=DURATION:PT1H
X-Robots-Tag:noindex
X-PUBLISHED-TTL:PT1H
BEGIN:VTIMEZONE
TZID:Europe/London
BEGIN:DAYLIGHT
TZOFFSETFROM:+0000
TZOFFSETTO:+0100
TZNAME:BST
DTSTART:20230326T010000
END:DAYLIGHT
BEGIN:STANDARD
TZOFFSETFROM:+0100
TZOFFSETTO:+0000
TZNAME:GMT
DTSTART:20231029T010000
END:STANDARD
BEGIN:DAYLIGHT
TZOFFSETFROM:+0000
TZOFFSETTO:+0100
TZNAME:BST
DTSTART:20240331T010000
END:DAYLIGHT
BEGIN:STANDARD
TZOFFSETFROM:+0100
TZOFFSETTO:+0000
TZNAME:GMT
DTSTART:20241027T010000
END:STANDARD
BEGIN:DAYLIGHT
TZOFFSETFROM:+0000
TZOFFSETTO:+0100
TZNAME:BST
DTSTART:20250330T010000
END:DAYLIGHT
BEGIN:STANDARD
TZOFFSETFROM:+0100
TZOFFSETTO:+0000
TZNAME:GMT
DTSTART:20251026T010000
END:STANDARD
END:VTIMEZONE
BEGIN:VEVENT
DTSTART;VALUE=DATE:20240325
DTEND;VALUE=DATE:20240326
DTSTAMP:20260422T204515
CREATED:20240119T131338Z
LAST-MODIFIED:20240119T131512Z
UID:119-1711324800-1711411199@x-heep.epfl.ch
SUMMARY:X-HEEP Workshop: Enabling rapid and sustainable RISC-V based research using open source HW and SW
DESCRIPTION:As our world becomes more interconnected and reliant on digital systems\, the need for transparency\, accessibility\, and collaborative innovation in hardware and software design has become paramount. Closed and proprietary solutions often limit user sovereignty and control\, hinder interoperability\, and stifle innovation by locking users into a specific ecosystem. In contrast\, open-source initiatives are leading towards rapid prototyping of novel ideas and systems and unlocking from any specific vendor by empowering academic and industrial users to control\, modify\, and build upon existing technology. This workshop will bring both academic and industry members into a discussion about open-source hardware (HW) and software (SW) interests and showcase the potential of open-source technology with the eXtendable Heterogeneous Energy-Efficient Platform\, X-HEEP. \nX-HEEP is an EU and RISC-V-based enabler platform for rapid and sustainable VLSI/ASIC system design\, automation\, and testing. Following the success stories of open-source projects in the SW ecosystem\, with Linux kernel as the best example\, X-HEEP aims to foster innovative\, easy-to-integrate\, easy-to-use ASIC-oriented technology. Similarly\, other open-source HW initiatives\, such as OpenHW Group\, OpenRoad\, and SkyWater are already revolutionising the semiconductor industry by democratising chip design via open-source IPs\, EDA tools\, and PDKs. To this end\, X-HEEP enables HW research and freely delivers industrial-grade\, silicon-proven open-source CPU IPs from OpenHW. Together with our academic and industrial partners\, we will showcase the usage of X-HEEP for \n\nSW engineers to deploy end-to-end applications\,\nHW engineers to integrate and evaluate their own IPs\, and\nsystem-level designers to architect a full system using its configurability and extendibility capabilities.\n\nOpen-source HW and SW are becoming essential in the rapidly evolving technological landscape. This workshop fosters a shared knowledge and creativity culture\, enabling a broader range of applications\, from affordable healthcare devices to sustainable energy solutions. It stands as a critical pillar for a more inclusive\, innovative\, and sustainable technological future. \nCall for Posters\nTo improve the discussion possibilities among junior and senior researchers\, in this workshop\, a Poster Competition is scheduled. We invite submissions on\, but not limited to\, the following topics: \n\nOpen-source SW applications (end-to-end) being deployed into open-source Systems (SoC\, NoC\, SiP\, etc)\nOpen-source HW Accelerators integrated into open-source Systems (SoC\, NoC\, SiP\, etc).\nOpen-source systems (SoC\, NoC\, SiP\, etc) offering extra versatility and configurability in comparison to COTS solutions.\n\nA submission can describe a novel scientific result\, provide a position statement about a new and relevant problem\, or report a case study on practical experiences with a topic from the list above. The submissions should not be formally published in the past. The workshop will have no formal proceedings. Accepted posters can\, at the discretion and with an approval of their authors\, be published on the workshop’s website. \nCALL FOR POSTERS\nAuthor instructions: \nSubmissions in form of 1-page PDF file in Pentachart format (possible template in here) should be submitted through SoftConf: \nSUBMISSIONS\nKey dates\n\n\n\nSubmission deadline:\nFebruary 5\, 2024\n\n\nAcceptance notification:\nFebruary 14\, 2024\n\n\nWorkshop:\nMarch 25-27\, 2024 (precise half-day slot to be decided later)\n\n\n\nRegistration\nThis workshop is co-located with the Design\, Automation and Test in Europe Conference and will use its registration facilities. Please register through the DATE website. The early-bird deadline is January 24\, 2024 \nREGISTRATION\n\nWorkshop organizers\nDavid Atienza\, ESL\, EPFL\, Switzerland\nDavide Schiavone\, ESL\, EPFL\, Switzerland\nJose Miranda\, ESL\, EPFL\, Switzerland\nAlfonso Rodríguez\, CEI\, UPM\, Spain\nAlessio Burrello\, Polytechnic of Turin\, Italy\nDaniele Jahier Pagliari\, Polytechnic of Turin\, Italy\nMaurizio Martina\, Polytechnic of Turin\, Italy \nWorkshop co-organizers and main contributors\nMr. Juan Sapriza\, ESL\, EPFL\, Switzerland\nMr. Ruben Rodriguez\, ESL\, EPFL\, Switzerland\nMr. Hossein Taji\, ESL\, EPFL\, Switzerland\nMr. Simone Machetti\, ESL\, EPFL\, Switzerland\nMr. Stefano Albini\, ESL\, EPFL\, Switzerland\nEmbecosm\, UK
URL:https://x-heep.epfl.ch/event/x-heep-workshop-enabling-rapid-and-sustainable-risc-v-based-research-using-open-source-hw-and-sw/
LOCATION:Palacio De Congresos\, Palacio De Congresos\, Valencia\, Spain
ATTACH;FMTTYPE=image/png:https://x-heep.epfl.ch/wp-content/uploads/2024/01/XHEEPdate2024.png
END:VEVENT
END:VCALENDAR